BEGIN:VCALENDAR
VERSION:2.0
PRODID:-//hacksw/handcal//NONSGML v1.0//EN
BEGIN:VEVENT
SUMMARY:Rassemblement technique des Jeunes Sapeurs Pompiers du Maine et Loire
UID:fac147fc-93ef-4682-a7a7-85a7590a382f
DTSTART:20260605T220000Z
DTEND:20260606T220000Z
LOCATION:Localisation   
CATEGORIES:Manifestation
STATUS:
URL;VALUE=URI:https://www.cdmjsea49.org/evenements/2026/06/06/rassemblement-technique-des-jeunes-sapeurs-pompiers-du-maine-et-loire-2426617
END:VEVENT
BEGIN:VEVENT
SUMMARY:Tout Angers bouge
UID:b86e4c8f-77a0-4fb5-88b2-fadbff048a7f
DTSTART:20260606T220000Z
DTEND:20260607T220000Z
LOCATION:Localisation Centre nautique du Lac de Maine  angers
CATEGORIES:Sportif
STATUS:
DESCRIPTION:<p>Plus d'informations sur le site de la <a
 href="https://www.angers.fr/vivre-a-angers/sport/les-loisirs-sportifs/tout-angers-bouge/index.html#:~:text=Rendez-vous%20dimanche%207%20juin,au%20c%C5%93ur%20du%20patrimoine%20angevin."
 target="_blank" rel="noreferrer noopener">ville d'Angers</a>.</p>
URL;VALUE=URI:https://www.cdmjsea49.org/evenements/2026/06/07/tout-angers-bouge-2438962
END:VEVENT
BEGIN:VEVENT
SUMMARY:Remise des prix du Challenge du jeune benevole
UID:65d029b6-ab79-4440-a319-9bd90e8b09dc
DTSTART:20261127T230000Z
DTEND:20261128T230000Z
LOCATION:Localisation   
CATEGORIES:Manifestation
STATUS:
URL;VALUE=URI:https://www.cdmjsea49.org/evenements/2026/11/28/remise-des-prix-du-challenge-du-jeune-benevole-2426618
END:VEVENT
END:VCALENDAR
