BEGIN:VCALENDAR
VERSION:2.0
PRODID:-//hacksw/handcal//NONSGML v1.0//EN
BEGIN:VEVENT
SUMMARY:4 Fevrier 2017 - Assemblee Generale Elective 2016
UID:667f646a-cb90-486e-9110-4fd213fbbca7
DTSTART:20170204T074500Z
DTEND:20170204T113000Z
LOCATION:Localisation rue pierre de coubertin 49136 les ponts de ce
CATEGORIES:Administratif
STATUS:
DESCRIPTION:<p>AG ORDINAIRE</p>
 
 <p>AG ELECTIVE</p>
 
 <p>POT de
 l'Amitie</p>
 
 <p>Repas au restaurant</p>
URL;VALUE=URI:https://www.cdmjsea49.org/evenements/2017/02/04/4-fevrier-2017-assemblee-generale-elective-2016-862652
END:VEVENT
END:VCALENDAR
