BEGIN:VCALENDAR
VERSION:2.0
PRODID:-//hacksw/handcal//NONSGML v1.0//EN
BEGIN:VEVENT
SUMMARY:4 janvier 2020 - Assemblee Generale Ordinaire 2019
UID:31b0ca04-7ec0-4a84-bfca-8c71a2e33e0a
DTSTART:20200104T080000Z
DTEND:20200104T130000Z
LOCATION:Localisation   
CATEGORIES:Manifestation
STATUS:
DESCRIPTION:<p align="center"> </p>
 
 <p align="center"><font
 face="Deco-R791"><font size="4" style="font-size:15pt;">Le
 President</font></font></p>
 
 <p align="center"><font
 face="Deco-R791"><font size="4" style="font-size:15pt;">Les membres
 du Comite Directeur du CD 49 MJSEA</font></font></p>
 
 <p
 align="center"> </p>
 
 <p align="center"><font face="Deco-R791"><font
 size="4" style="font-size:15pt;">Ont le plaisir de vous inviter a
 leur Assemblee </font></font></p>
 
 <p align="center"><font
 face="Deco-R791"><font size="4" style="font-size:15pt;">Generale
 Ordinaire 2019</font></font></p>
 
 <p align="center"> </p>
 
 <p
 align="center"><font face="Deco-R791"><font size="4"
 style="font-size:15pt;"><font color="#c9211e">Le samedi 04 janvier
 2020</font></font></font></p>
 
 <p align="center"><font
 face="Deco-R791"><font size="4" style="font-size:15pt;">A
 9h30</font></font></p>
 
 <p align="center"> </p>
 
 <p
 align="center"><font face="Deco-R791"><font size="3"
 style="font-size:13pt;">au Restaurant « La
 Changerie »</font></font></p>
 
 <p align="center"><font
 face="Deco-R791"><font size="3" style="font-size:13pt;">a cote de
 l’Atoll a BEAUCOUZE</font></font></p>
 
 <p> </p>
 
 <p
 align="center"><font color="#0066cc"><font face="Tempus Sans ITC,
 fantasy"><font size="4" style="font-size:14pt;">Le port de la
 decoration JSEA est souhaite pour les
 presents</font></font></font></p>
 
 <p align="center"> </p>
 
 <p
 align="center"><font face="Deco-R791"><font size="4"
 style="font-size:15pt;">Programme de la matinee</font></font></p>
 
 <p
 align="center"><font face="Deco-R791"><font size="4"
 style="font-size:15pt;">9h30 –
 12h00</font></font></p>
 
 <p> </p>
 
 <p><font face="Deco-R791"><font
 size="4" style="font-size:15pt;">09h30 - Accueil et
 pointage</font></font></p>
 
 <p><font face="Deco-R791"><font size="4"
 style="font-size:15pt;">10h00 - Allocution du
 President</font></font></p>
 
 <p><font face="Deco-R791"><font size="4"
 style="font-size:15pt;">10h15 - AGO</font></font></p>
 
 <p><font
 face="Deco-R791"><font size="4"
 style="font-size:15pt;">                              
 Rapport Moral</font></font></p>
 
 <p><font face="Deco-R791"><font
 size="4"
 style="font-size:15pt;">                              
 Rapport d’activite </font></font></p>
 
 <p><font
 face="Deco-R791"><font size="4"
 style="font-size:15pt;">                              
 Rapport financier</font></font></p>
 
 <p><font face="Deco-R791"><font
 size="4"
 style="font-size:15pt;">                              
 Rapport du verificateur aux comptes</font></font></p>
 
 <p><font
 face="Deco-R791"><font size="4"
 style="font-size:15pt;">                              
 Questions diverses</font></font></p>
 
 <p><font face="Deco-R791"><font
 size="4"
 style="font-size:15pt;">                              
 Interventions des personnalites</font></font></p>
 
 <p><font
 face="Deco-R791"><font size="4"
 style="font-size:15pt;">                              
 Ceremonie de remise des distinctions </font></font></p>
 
 <p><font
 face="Deco-R791"><font size="4"
 style="font-size:15pt;">                              
 Vin
 d’honneur</font></font></p>
 
 <p> </p>
 
 <p> </p>
 
 <p> </p>
 
 <p> </p>
 
 <p> </p>
 
 <p> </p>
 
 <p> </p>
 
 <p> </p>
 
 <p> </p>
 
 <p> </p>
URL;VALUE=URI:https://www.cdmjsea49.org/evenements/2020/01/04/4-janvier-2020-assemblee-generale-ordinaire-2019-1320671
END:VEVENT
END:VCALENDAR
