BEGIN:VCALENDAR
VERSION:2.0
PRODID:-//hacksw/handcal//NONSGML v1.0//EN
BEGIN:VEVENT
SUMMARY:4 fevrier 2023 - Assemblee Generale Ordinaire 2022
UID:833933a1-6ca6-409b-b8dd-d3f04d33e6d1
DTSTART:20230204T080000Z
DTEND:20230204T133000Z
LOCATION:Localisation La Changerie, Av. Le CORBUSIER 49070 BEAUCOUZE
CATEGORIES:Manifestation
STATUS:
DESCRIPTION:<p class="western" style="text-align:center;"><span
 style="line-height:100%;"><font face="Tempus Sans ITC, fantasy"><span
 style="font-size:48pt;"><b>Assemblee Generale
 </b></span></font></span></p>
 
 <p class="western"
 style="text-align:center;"> </p>
 
 <p class="western"
 style="text-align:center;"><span style="line-height:100%;"><font
 face="Tempus Sans ITC, fantasy"><span
 style="font-size:48pt;"><b>Ordinaire</b></span></font></span></p>
 
 <p
 class="western" style="text-align:center;"> </p>
 
 <p class="western"
 style="text-align:center;"><span style="line-height:100%;"><font
 face="Tempus Sans ITC, fantasy"><span
 style="font-size:48pt;"><b>20</b></span></font><font face="Tempus
 Sans ITC, fantasy"><span
 style="font-size:48pt;"><b>22</b></span></font></span></p>
 
 <p
 class="western" style="text-align:center;"> </p>
 
 <p class="western"
 style="margin-left:3px;text-align:center;"><span
 style="line-height:100%;"><font face="Tempus Sans ITC, fantasy"><span
 style="font-size:22pt;">Le President et</span></font></span></p>
 
 <p
 class="western" style="margin-left:3px;text-align:center;"><span
 style="line-height:100%;"><font face="Tempus Sans ITC, fantasy"><span
 style="font-size:22pt;">Les membres du Comite Directeur du CD
 49MJSEA</span></font></span></p>
 
 <p class="western"
 style="margin-left:3px;"> </p>
 
 <p class="western"
 style="margin-left:3px;"><span style="line-height:100%;"><font
 face="Tempus Sans ITC, fantasy"><span style="font-size:22pt;">Ont le
 plaisir de vous inviter </span></font></span><span
 style="line-height:100%;"><font face="Tempus Sans ITC, fantasy"><span
 style="font-size:22pt;">a leur Assemblee</span></font></span></p>
 
 <p
 class="western" style="margin-left:3px;"><span
 style="line-height:100%;"><font face="Tempus Sans ITC, fantasy"><span
 style="font-size:22pt;">Generales </span></font></span><span
 style="line-height:100%;"><font face="Tempus Sans ITC, fantasy"><span
 style="font-size:22pt;">Ordinaire 2022, le
 : </span></font></span></p>
 
 <p class="western"
 style="text-align:center;"> </p>
 
 <p class="western"
 style="text-align:center;"><span style="line-height:100%;"><font
 color="#ff0000"><font face="Tempus Sans ITC, fantasy"><span
 style="font-size:24pt;"><b>Samedi 04 fevrier
 2023</b></span></font></font></span></p>
 
 <p class="western"
 style="text-align:center;"><span style="line-height:100%;"><font
 face="Tempus Sans ITC, fantasy"><span style="font-size:22pt;">A
 9h30</span></font></span></p>
 
 <p class="western"
 style="text-align:center;"><span style="line-height:100%;"><font
 face="Tempus Sans ITC, fantasy"><span style="font-size:22pt;">au
 Restaurant « La Changerie »</span></font></span></p>
 
 <p
 class="western" style="text-align:center;"><span
 style="line-height:100%;"><font face="Tempus Sans ITC, fantasy"><span
 style="font-size:22pt;">a cote de l’Atoll a
 BEAUCOUZE</span></font></span></p>
 
 <p class="western"
 style="text-align:center;"> </p>
 
 <p class="western"><span
 style="line-height:100%;"><font face="Tempus Sans ITC, fantasy"><span
 style="font-size:22pt;">Comme tous les ans, celle ci sera suivi d'un
 repas.</span></font></span></p>
 
URL;VALUE=URI:https://www.cdmjsea49.org/evenements/2023/02/04/4-fevrier-2023-assemblee-generale-ordinaire-2022-1742208
END:VEVENT
END:VCALENDAR
