BEGIN:VCALENDAR
VERSION:2.0
PRODID:-//hacksw/handcal//NONSGML v1.0//EN
BEGIN:VEVENT
SUMMARY:Journees "Jeunesse et Territoires au large"
UID:8ba593df-8d29-4e1b-ab1b-9f1e3ec9a619
DTSTART:20260614T080000Z
DTEND:20260614T160000Z
LOCATION:Localisation Coeur de Maine  angers
CATEGORIES:Manifestation
STATUS:
DESCRIPTION:<p>Dans le cadre des 400 ans de la Marine, la ville
 d'Angers accueille la Journee Jeunesse et territoire au
 large. </p>
 
 <p>Plus d'informations sur le site des <a
 href="https://www.defense.gouv.fr/marine/400-ans-marine/400-ans-marine-nationale"
 target="_blank" rel="noreferrer noopener">400 ans de la Marine
 Nationale</a>.</p>
URL;VALUE=URI:https://www.cdmjsea49.org/evenements/2026/06/14/journees-jeunesse-et-territoires-au-large-2443612
END:VEVENT
END:VCALENDAR
